BEGIN:VCALENDAR
VERSION:2.0
PRODID:-//Library Market//iCal Export//EN
BEGIN:VEVENT
SUMMARY:YouTube Creator: Learn Production Basics
UID:67637
DTSTAMP:20260425T164900Z
DTSTART:20260624T131500Z
DTEND:20260624T211500Z
LOCATION:450 South Jefferson Street, Brownsburg, IN 46112, United States
ROOM: Pearson Room
DESCRIPTION:Youtube has become the premier platform for creators of all ki
 nds to film and produce content that reaches millions of people. This camp
  is perfect for future content creators to learn the skills that will push
  their videos to the top. Campers will learn to use digital cameras, how t
 o edit audio, video, and produce content that is not just unique but inter
 esting for their audience. Ages 6 - 10.This is a partner event. For more 
 information or to register visit: https://icodeschool.com/fishers/brownsbu
 rg-library-camps/
URL:https://bburglibrary.librarymarket.com/event/youtube-creator-67637
END:VEVENT
END:VCALENDAR
