BEGIN:VCALENDAR
VERSION:2.0
PRODID:-//Library Market//iCal Export//EN
BEGIN:VEVENT
SUMMARY:Content Creator: Build Your Brand
UID:67625
DTSTAMP:20260425T145300Z
DTSTART:20260609T131500Z
DTEND:20260609T211500Z
LOCATION:450 South Jefferson Street, Brownsburg, IN 46112, United States
ROOM: Pearson Room
DESCRIPTION:Step into the world of digital creativity and entrepreneurship
 ! This engaging camp offers hands-on training in content creation, persona
 l branding, and storytelling, all while teaching the secrets behind becomi
 ng a successful influencer. Campers will dive into video production, photo
 graphy, and editing with professional tools like DJI cameras and DaVinci R
 esolve, discovering how to craft engaging content and build a unique brand
 . Each day explores a new side of the influencer journey, from collaborati
 ons to product development, setting campers up with the skills they need t
 o shine in the digital world and beyond.  Ages 6 - 10.This is a partner 
 event. For more information or to register visit: https://icodeschool.com/
 fishers/brownsburg-library-camps/
URL:https://bburglibrary.librarymarket.com/event/content-creator-build-you
 r-brand-67625
END:VEVENT
END:VCALENDAR
