BEGIN:VCALENDAR
VERSION:2.0
PRODID:-//Library Market//iCal Export//EN
BEGIN:VEVENT
SUMMARY:Minecraft Arcade Makers
UID:67620
DTSTAMP:20260425T105000Z
DTSTART:20260602T131500Z
DTEND:20260602T211500Z
LOCATION:450 South Jefferson Street, Brownsburg, IN 46112, United States
ROOM: Pearson Room
DESCRIPTION:Minecraft Arcade Makers aims to teach students how to design a
 nd build their own Minecraft minigames. Through a hands-on process, they w
 ill learn general game planning, master advanced command blocks to create 
 complex game mechanics, and use WorldEdit for efficient world-building. Th
 e camp concludes with students learning how to manage a server and build a
  server lobby, culminating in the launch of their very own public server w
 here they can host their unique minigames. This program is perfect for asp
 iring game developers, providing them with the creative and technical skil
 ls needed to turn their ideas into a playable reality.Ages 6 - 10.This is 
 a partner event. For more information or to register visit: https://icodes
 chool.com/fishers/brownsburg-library-camps/
URL:https://bburglibrary.librarymarket.com/event/minecraft-arcade-makers-6
 7620
END:VEVENT
END:VCALENDAR
