BEGIN:VCALENDAR
VERSION:2.0
PRODID:-//Library Market//iCal Export//EN
BEGIN:VEVENT
SUMMARY:BPL Community Day
UID:67411
DTSTAMP:20260425T145300Z
DTSTART:20260516T140000Z
DTEND:20260516T170000Z
LOCATION:450 South Jefferson Street, Brownsburg, IN 46112, United States
ROOM: Gazebo
DESCRIPTION:Join us to learn about Library and Community Resources, partic
 ipate in health screenings, enter a prize raffle, and more! All ages, no 
 registration required.
URL:https://bburglibrary.librarymarket.com/event/bpl-community-day-67411
END:VEVENT
END:VCALENDAR
