BEGIN:VCALENDAR
VERSION:2.0
PRODID:-//Library Market//iCal Export//EN
BEGIN:VEVENT
SUMMARY:YouTube Creator : Learn Production Basics
UID:67174
DTSTAMP:20260425T145300Z
DTSTART:20260713T130000Z
DTEND:20260713T210000Z
LOCATION:450 South Jefferson Street, Brownsburg, IN 46112, United States
ROOM: Roberts Room
DESCRIPTION:Youtube has become the premier platform for creators of all ki
 nds to film and produce content that reaches millions of people. This camp
  is perfect for future content creators to learn the skills that will push
  their videos to the top. Campers will learn to use digital cameras, how t
 o edit audio, video, and produce content that is not just unique but inter
 esting for their audience. Ages 6 - 10.This is a partner event. For more 
 information or to register visit: https://icodeschool.com/fishers/brownsbu
 rg-library-camps/
URL:https://bburglibrary.librarymarket.com/event/icode-placeholder-67174
END:VEVENT
END:VCALENDAR
