BEGIN:VCALENDAR
VERSION:2.0
PRODID:-//Library Market//iCal Export//EN
BEGIN:VEVENT
SUMMARY:3D Modeling with Blender
UID:67171
DTSTAMP:20260425T135200Z
DTSTART:20260708T130000Z
DTEND:20260708T210000Z
LOCATION:450 South Jefferson Street, Brownsburg, IN 46112, United States
ROOM: Roberts Room
DESCRIPTION:In this camp, students will explore the exciting world of 3D d
 esign and animation. Over the course of the week, they’ll learn how to n
 avigate Blender’s workspace, build and shape models from simple objects,
  apply colors and materials, add lighting and cameras, and even experiment
  with basic animation. Each day builds on the last, blending hands-on prac
 tice with creative challenges, so by the final day every student will desi
 gn and present their very own 3D project; whether it’s a character, vehi
 cle, building, or something entirely from their imagination. Along the way
 , they’ll gain valuable skills in creativity, problem-solving, and digit
 al design while having fun bringing their ideas to life.Ages 6 - 10.This i
 s a partner event. For more information or to register visit: https://icod
 eschool.com/fishers/brownsburg-library-camps/
URL:https://bburglibrary.librarymarket.com/event/icode-placeholder-67171
END:VEVENT
END:VCALENDAR
