BEGIN:VCALENDAR
VERSION:2.0
PRODID:-//Library Market//iCal Export//EN
BEGIN:VEVENT
SUMMARY:Weekend Stories &amp; Stations: Unearth Big &amp; Small!
UID:65987
DTSTAMP:20260423T032500Z
DTSTART:20260711T140000Z
DTEND:20260711T144500Z
LOCATION:450 South Jefferson Street, Brownsburg, IN 46112, United States
ROOM: Children’s Program Rooms
DESCRIPTION:Let&#039;s explore stories, rhymes and songs together, then ha
 ve time for sensory and creative free play stations! Caregivers, get ready
  for some special time to focus on and bond with your little one. The prog
 ram is geared to ages 0 to 5 with a caring and participating adult. Siblin
 gs are welcome. The group will practice pre-literacy skills through play, 
 stories, rhymes, songs, and movement during the first part of our session,
  then sensory stations and a simple craft will be open for families to exp
 lore afterwards. *Please register ONE child, and please add any additiona
 l children’s names and their age in the notes field. Add the name of the
  adult(s) who will be accompanying the registered child in the &quot;Paren
 t/Guardian&quot; field.**Food will not served, but sensory bins may use fo
 od materials such as dried beans, oats, or aquafaba. Please be aware, and 
 feel free to contact us prior to the program if you have any concerns abou
 t food allergies.*Please note – five minutes after the program start tim
 e, registered but unfilled seats may be given to waitlisted or walk-in par
 ticipants.
URL:https://bburglibrary.librarymarket.com/event/weekend-stories-stations-
 65987
END:VEVENT
END:VCALENDAR
