BEGIN:VCALENDAR
VERSION:2.0
PRODID:-//Library Market//iCal Export//EN
BEGIN:VEVENT
SUMMARY:Branches Meeting
UID:65460
DTSTAMP:20260419T132700Z
DTSTART:20260513T150000Z
DTEND:20260513T160000Z
LOCATION:450 South Jefferson Street, Brownsburg, IN 46112, United States
ROOM: Roberts Room
DESCRIPTION:Explore your family&#039;s history using FamilySearch, the wor
 ld&#039;s largest free genealogical database.  Learn to set up your accou
 nt, how to search, and start building your family tree today.  Feel free 
 to bring your personal laptop to use in class.
URL:https://bburglibrary.librarymarket.com/event/branches-meeting-65460
END:VEVENT
END:VCALENDAR
