BEGIN:VCALENDAR
VERSION:2.0
PRODID:-//Library Market//iCal Export//EN
BEGIN:VEVENT
SUMMARY:Shark Week Jeopardy
UID:65024
DTSTAMP:20260425T191800Z
DTSTART:20260707T210000Z
DTEND:20260707T233000Z
LOCATION:450 South Jefferson Street, Brownsburg, IN 46112, United States
ROOM: Murdock Room
DESCRIPTION:Calling all Tween, Teen, and Adult trivia or shark lovers!We&#
 039;re celebrating Shark Week with our rendition of an American classic ga
 me show....Jeopardy! Come with friends or come solo to test your shark kno
 wledge. 
URL:https://bburglibrary.librarymarket.com/event/shark-week-trivia-night-6
 5024
END:VEVENT
END:VCALENDAR
