BEGIN:VCALENDAR
VERSION:2.0
PRODID:-//Library Market//iCal Export//EN
BEGIN:VEVENT
SUMMARY:Tween Escape Room
UID:63904
DTSTAMP:20260426T015900Z
DTSTART:20260714T170000Z
DTEND:20260714T180000Z
LOCATION:450 South Jefferson Street, Brownsburg, IN 46112, United States
ROOM: Teen Program Room
DESCRIPTION:It&#039;s a test of wits and logic set in the WIZARDING WORLD!
  Can you solve all the clues in time to rescue to the Headmaster and the s
 chool from a spell before it&#039;s too late? Open to tweens entering gra
 des 6-8. Registration is required! Costumes are encouraged but never requi
 red!
URL:https://bburglibrary.librarymarket.com/event/tween-escape-room-63904
END:VEVENT
END:VCALENDAR
