BEGIN:VCALENDAR
VERSION:2.0
PRODID:-//Library Market//iCal Export//EN
BEGIN:VEVENT
SUMMARY:Build a Dinosaur with Banzi Balloons
UID:67503
DTSTAMP:20260425T135200Z
DTSTART:20260622T170000Z
DTEND:20260622T180000Z
LOCATION:450 South Jefferson Street, Brownsburg, IN 46112, United States
ROOM: Children’s Window Area
DESCRIPTION:Join us for an afternoon of balloon twisting fun, dinosaur fac
 ts and interactive storytelling with Brian Getz of Banzi Balloons.  Atten
 dees get to take home their own dinosaur-shaped balloon!  All ages, no re
 gistation required.
URL:https://bburglibrary.librarymarket.com/index.php/event/build-dinosaur-
 banzi-balloons-67503
END:VEVENT
END:VCALENDAR
