BEGIN:VCALENDAR
VERSION:2.0
PRODID:-//Library Market//iCal Export//EN
BEGIN:VEVENT
SUMMARY:Minecraft: Modding Adventure
UID:67179
DTSTAMP:20260425T105000Z
DTSTART:20260720T130000Z
DTEND:20260720T210000Z
LOCATION:450 South Jefferson Street, Brownsburg, IN 46112, United States
ROOM: Roberts Room
DESCRIPTION:Campers will learn how to make Mods (modifications) for one of
  their favorite games:  Minecraft. Learning to mod in Minecraft is a gate
 way to an adventure of creativity in computer skills that can be taken fro
 m video games to the real world!Ages 6 - 10.This is a partner event. For m
 ore information or to register visit: https://icodeschool.com/fishers/brow
 nsburg-library-camps/  
URL:https://bburglibrary.librarymarket.com/index.php/event/icode-placehold
 er-67179
END:VEVENT
END:VCALENDAR
