BEGIN:VCALENDAR
VERSION:2.0
PRODID:-//Library Market//iCal Export//EN
BEGIN:VEVENT
SUMMARY:Bon Voyage, Miss Leslie!
UID:64783
DTSTAMP:20260426T015900Z
DTSTART:20260427T200000Z
DTEND:20260427T230000Z
LOCATION:450 South Jefferson Street, Brownsburg, IN 46112, United States
ROOM: Children’s Program Rooms
DESCRIPTION:Join us as we celebrate Miss Leslie&#039;s legacy and wish her
  smooth sailing ahead!Have a story about Miss Leslie? Visit this link to s
 hare!
URL:https://bburglibrary.librarymarket.com/index.php/event/leslies-retirem
 ent-party-64783
END:VEVENT
END:VCALENDAR
