BEGIN:VCALENDAR
VERSION:2.0
PRODID:-//Library Market//iCal Export//EN
BEGIN:VEVENT
SUMMARY:Back-to-School Teen Bash
UID:63907
DTSTAMP:20260425T213900Z
DTSTART:20260724T230000Z
DTEND:20260725T010000Z
LOCATION:450 South Jefferson Street, Brownsburg, IN 46112, United States
ROOM: Children’s Program Rooms
DESCRIPTION:Celebrate the end of another awesome summer and join us for ou
 r Back to School Glow Up Party! We&#039;ll have fun crafts, Nintendo Switc
 h games, a movie, pizza, and more…SO, bring all of your friends and get 
 ready for an amazing after-hours event just for teens and tweens! Note fo
 r Guardians: Participants watching the movie will have a chance to vote fo
 r one of four options. Please click on each title for the IMDB Parent&#039
 ;s Guide. We encourage families to discuss whether movie options are appro
 priate for their family beforehand! Watching the movie is NOT a required a
 ctivity.Zootopia 2 (2025) - Rated PG.The Fantastic Four: First Steps (2025
 ) - Rated PG-13. Freakier Friday (2025) - Rated PG. Superman (2025) - Ra
 ted PG-13. **Please note on your registration form if you have any dietar
 y restrictions. We will do our best to have something for everyone to eat!
 Open to ages 11-19, teens and tweens entering 6th through 12th grades. Reg
 istration is required!
URL:https://bburglibrary.librarymarket.com/index.php/event/back-school-glo
 w-party-63907
END:VEVENT
END:VCALENDAR
