BEGIN:VCALENDAR
VERSION:2.0
PRODID:-//Library Market//iCal Export//EN
BEGIN:VEVENT
SUMMARY:Next Chapter
UID:63893
DTSTAMP:20260425T145300Z
DTSTART:20260706T213000Z
DTEND:20260706T223000Z
LOCATION:450 South Jefferson Street, Brownsburg, IN 46112, United States
ROOM: Teen Program Room
DESCRIPTION:**Teen Council and Book Besties have joined forces to create..
 . NEXT CHAPTER: a space for teens and tweens to have their voices heard an
 d create a reader&#039;s community! This group will meet from 5:30-6:30 on
  the first Monday monthly.The first half of each meeting, members will hav
 e time to share ideas about shaping the library and give feedback about pr
 ograms they&#039;d like to see. The second half, members will have a chanc
 e to share what they&#039;ve been reading/watching/listening to! Come chat
  with friends and eat snacks in a low-key environment where it&#039;s alwa
 ys okay to get off topic!Members can earn a service hour by writing a shor
 t review for a book at the end of each meeting. Open to ages 11-19, grades
  6-12. Registration is required! 
URL:https://bburglibrary.librarymarket.com/index.php/event/next-chapter-63
 893
END:VEVENT
END:VCALENDAR
